BEGIN:VCALENDAR
VERSION:2.0
PRODID:DPCALENDAR
CALSCALE:GREGORIAN
BEGIN:VTIMEZONE
TZID:Europe/London
X-MICROSOFT-CDO-TZID:1
BEGIN:STANDARD
DTSTART:20251026T010000
TZOFFSETFROM:+0100
TZOFFSETTO:+0000
TZNAME:GMT
END:STANDARD
BEGIN:STANDARD
DTSTART:20261025T010000
TZOFFSETFROM:+0100
TZOFFSETTO:+0000
TZNAME:GMT
END:STANDARD
BEGIN:DAYLIGHT
DTSTART:20260329T010000
TZOFFSETFROM:+0000
TZOFFSETTO:+0100
TZNAME:BST
END:DAYLIGHT
END:VTIMEZONE
X-WR-TIMEZONE:Europe/London
BEGIN:VEVENT
DTSTART;TZID=Europe/London:20231012T091500
DTEND;TZID=Europe/London:20231012T101500
UID:53C92769-3681-490E-93A3-7EC11938608B
SUMMARY:Reception 2024 Visit
CREATED:20231002T113607Z
DTSTAMP:20231002T113607Z
URL:https://www.thorplandsprimary.org.uk/parents/school-calendar/reception-2024-visit
X-ACCESS:1
X-HITS:165
X-COLOR:3d6fdb
X-SHOW-END-TIME:0
END:VEVENT
BEGIN:VEVENT
DTSTART;VALUE=DATE:20231023
DTEND;VALUE=DATE:20231028
UID:D43898C2-7C5A-43D1-B67B-693AF5757F71
SUMMARY:School Holidays
CREATED:20231002T113205Z
DTSTAMP:20231002T113205Z
URL:https://www.thorplandsprimary.org.uk/parents/school-calendar/school-holidays
LAST-MODIFIED:20231002T113313Z
SEQUENCE:68
X-ACCESS:1
X-HITS:269
X-COLOR:3d6fdb
X-SHOW-END-TIME:0
END:VEVENT
BEGIN:VEVENT
DTSTART;VALUE=DATE:20231030
DTEND;VALUE=DATE:20231031
UID:576D467F-054F-40E6-808D-BF5CD50BEC30
SUMMARY:Teacher Training - School Closed for Pupils
CREATED:20231002T113303Z
DTSTAMP:20231002T113303Z
URL:https://www.thorplandsprimary.org.uk/parents/school-calendar/teacher-training-school-closed-for-pupils
X-ACCESS:1
X-HITS:235
X-COLOR:3d6fdb
X-SHOW-END-TIME:1
END:VEVENT
BEGIN:VEVENT
DTSTART;TZID=Europe/London:20231102T091500
DTEND;TZID=Europe/London:20231102T101500
UID:98FDFEE1-A21F-4EC1-93DB-640A3F46AF45
SUMMARY:Reception 2024 Visit
CREATED:20231002T113607Z
DTSTAMP:20231002T113607Z
URL:https://www.thorplandsprimary.org.uk/parents/school-calendar/reception-2024-visit-2
LAST-MODIFIED:20231002T113617Z
SEQUENCE:10
X-ACCESS:1
X-HITS:346
X-COLOR:3d6fdb
X-SHOW-END-TIME:0
END:VEVENT
BEGIN:VEVENT
DTSTART;TZID=Europe/London:20231109T170000
DTEND;TZID=Europe/London:20231109T180000
UID:C03ABB99-AD1E-4311-9DE3-FA9247DF2DC1
SUMMARY:Reception 2024 Visit (Parents Only)
CREATED:20231002T113607Z
DTSTAMP:20231002T113607Z
URL:https://www.thorplandsprimary.org.uk/parents/school-calendar/reception-2024-visit-3
LAST-MODIFIED:20231002T113706Z
SEQUENCE:59
X-ACCESS:1
X-HITS:403
X-COLOR:3d6fdb
X-SHOW-END-TIME:0
END:VEVENT
BEGIN:VEVENT
DTSTART;TZID=Europe/London:20231123T091500
DTEND;TZID=Europe/London:20231123T101500
UID:1D07B566-139C-4085-8CE2-C78EA9921C89
SUMMARY:Reception 2024 Visit
CREATED:20231002T113607Z
DTSTAMP:20231002T113607Z
URL:https://www.thorplandsprimary.org.uk/parents/school-calendar/reception-2024-visit-4
LAST-MODIFIED:20231002T113735Z
SEQUENCE:88
X-ACCESS:1
X-HITS:447
X-COLOR:3d6fdb
X-SHOW-END-TIME:0
END:VEVENT
BEGIN:VEVENT
DTSTART;TZID=Europe/London:20231207T091500
DTEND;TZID=Europe/London:20231207T101500
UID:1379D3AF-A694-424D-B651-01E182745CF3
SUMMARY:Reception 2024 Visit
CREATED:20231002T113607Z
DTSTAMP:20231002T113607Z
URL:https://www.thorplandsprimary.org.uk/parents/school-calendar/reception-2024-visit-5
LAST-MODIFIED:20231002T113750Z
SEQUENCE:103
X-ACCESS:1
X-HITS:358
X-COLOR:3d6fdb
X-SHOW-END-TIME:0
END:VEVENT
BEGIN:VEVENT
DTSTART;VALUE=DATE:20231221
DTEND;VALUE=DATE:20240104
UID:E247A267-17E0-42F6-9345-70B3FF87F126
SUMMARY:School Holidays
CREATED:20231002T113229Z
DTSTAMP:20231002T113229Z
URL:https://www.thorplandsprimary.org.uk/parents/school-calendar/school-holidays-2
LAST-MODIFIED:20231002T113322Z
SEQUENCE:53
X-ACCESS:1
X-HITS:488
X-COLOR:3d6fdb
X-SHOW-END-TIME:0
END:VEVENT
BEGIN:VEVENT
DTSTART;TZID=Europe/London:20240104T091500
DTEND;TZID=Europe/London:20240104T101500
UID:9A8A041D-C0C1-4E99-94BC-221C4EBF2548
SUMMARY:Reception 2024 Visit
CREATED:20231002T113607Z
DTSTAMP:20231002T113607Z
URL:https://www.thorplandsprimary.org.uk/parents/school-calendar/reception-2024-visit-6
LAST-MODIFIED:20231002T113826Z
SEQUENCE:139
X-ACCESS:1
X-HITS:448
X-COLOR:3d6fdb
X-SHOW-END-TIME:0
END:VEVENT
BEGIN:VEVENT
DTSTART;TZID=Europe/London:20240219T120000
DTEND;TZID=Europe/London:20240223T130000
UID:4B436F45-BBED-42FE-BC36-607B4C07BE02
SUMMARY:School Holidays
CREATED:20231002T113352Z
DTSTAMP:20231002T113352Z
URL:https://www.thorplandsprimary.org.uk/parents/school-calendar/school-holidays-3
X-ACCESS:1
X-HITS:725
X-COLOR:3d6fdb
X-SHOW-END-TIME:1
END:VEVENT
BEGIN:VEVENT
DTSTART;VALUE=DATE:20240226
DTEND;VALUE=DATE:20240227
UID:E455B1FF-6D35-46B6-B4EA-C7748CC425A6
SUMMARY:Teacher Training - School Closed for Pupils
CREATED:20231002T103303Z
DTSTAMP:20231002T103303Z
URL:https://www.thorplandsprimary.org.uk/parents/school-calendar/teacher-training-school-closed-for-pupils-2
X-ACCESS:1
X-HITS:610
X-COLOR:3d6fdb
X-SHOW-END-TIME:1
END:VEVENT
END:VCALENDAR